BEGIN:VCALENDAR
VERSION:2.0
PRODID:-//Resilience Library - ECPv6.15.12.2//NONSGML v1.0//EN
CALSCALE:GREGORIAN
METHOD:PUBLISH
X-ORIGINAL-URL:https://www.rcrc-resilience-southeastasia.org
X-WR-CALDESC:Events for Resilience Library
REFRESH-INTERVAL;VALUE=DURATION:PT1H
X-Robots-Tag:noindex
X-PUBLISHED-TTL:PT1H
BEGIN:VTIMEZONE
TZID:Asia/Krasnoyarsk
BEGIN:STANDARD
TZOFFSETFROM:+0700
TZOFFSETTO:+0700
TZNAME:+07
DTSTART:20150101T000000
END:STANDARD
END:VTIMEZONE
BEGIN:VEVENT
DTSTART;TZID=Asia/Krasnoyarsk:20161006T080000
DTEND;TZID=Asia/Krasnoyarsk:20161007T170000
DTSTAMP:20260425T011716
CREATED:20161123T083504Z
LAST-MODIFIED:20170123T062743Z
UID:16040-1475740800-1475859600@www.rcrc-resilience-southeastasia.org
SUMMARY:Civil Society Organisations (CSO) Capacity Building Training | 6-7 October 2016 | Bangkok\, Thailand
DESCRIPTION:In follow-up to the findings of the capacity assessment exercise\, on 6-7 October IFRC Country Cluster Support Team (CCST) Bangkok organised a capacity building training for partner-implementing Civil Society Organisations (CSOs). \n \nA two-fold objective of the training was to: \n\nEnhance quality of financial planning\, monitoring and reporting of IFRC-supported projects;\nPromote better understanding and enhance compliance with IFRC procurement rules and procedures.\n\nDelivered by the CCST personnel\, the training module included theoretical sessions and practical exercises and covered a wide array of issues  such as human resources\, project visibility\, financial management\, procurement and logistics rules and regulations. \n  \nTraining documents: \n\nAgenda\nPowerpoint Presentation: HR rules and regulations\nPowerpoint Presentation: Public communication and use of logos\nPowerpoint Presentation: IFRC procurement procedures\nThai Labour Law [in Thai language]\nPowerpoint Presentation: Financial management\n\n  \nFor more information\, visit Rights of Migrants in Action
URL:https://www.rcrc-resilience-southeastasia.org/event/civil-society-organisations-cso-capacity-building-training/
CATEGORIES:Migration,Thailand,Training
END:VEVENT
END:VCALENDAR