BEGIN:VCALENDAR
VERSION:2.0
PRODID:-//Resilience Library - ECPv6.15.12.2//NONSGML v1.0//EN
CALSCALE:GREGORIAN
METHOD:PUBLISH
X-ORIGINAL-URL:https://www.rcrc-resilience-southeastasia.org
X-WR-CALDESC:Events for Resilience Library
REFRESH-INTERVAL;VALUE=DURATION:PT1H
X-Robots-Tag:noindex
X-PUBLISHED-TTL:PT1H
BEGIN:VTIMEZONE
TZID:Asia/Krasnoyarsk
BEGIN:STANDARD
TZOFFSETFROM:+0700
TZOFFSETTO:+0700
TZNAME:+07
DTSTART:20150101T000000
END:STANDARD
END:VTIMEZONE
BEGIN:VEVENT
DTSTART;VALUE=DATE:20161125
DTEND;VALUE=DATE:20161202
DTSTAMP:20260424T003057
CREATED:20170111T044930Z
LAST-MODIFIED:20170125T021307Z
UID:17413-1480032000-1480636799@www.rcrc-resilience-southeastasia.org
SUMMARY:Cambodian Red Cross celebrates World AIDS Day 2016
DESCRIPTION:The Cambodian Red Cross always celebrates the World AIDS Day event every year to support the effort of the government and the profound HIV and AIDS activity of its president as the National Champion of the Asia-Pacific Leadership Forum in response to HIV and AIDS in Cambodia. For 2016 World AIDS Day\, the CRC celebrated the event with the theme\, “Early Test and Early Treat toward stopping AIDS by 2025”. \nAccording to the above-mentioned theme\, CRC organized 2016 World AIDS day event in several activities which included:\na. Key message from the CRC’s President for nationally dissemination.\nb. 25 Red Cross Branches were encouraged to conduct home visits to PLHIV families by Red Cross Youth and Volunteers.\nc. Youth debate at the National TV studio and aired through the National TV before and on 1 December 2016.\nd. The health team from the NHQ visited 3 Red Cross branches (Siem Reap\, Svay Rieng and Koh Kong provinces) and joined the branches’ activities.\ne. The CRC’s NHQ health team conducted HIV/AIDS awareness sessions to several universities in Phnom Penh and Svay Rieng. \nKey Activities\n1. Key message from CRC’s President\nThe contents of the CRC’s President message to the public can be summarized as follow:\n– Try to understand about the fact of HIV and AIDS and to prevent yourself from HIV infection\, in particular all youth and you have to remember that “preventing HIV starts from you”.\n– For those who are suspecting of infecting HIV and those who are living with HIV\, you have to hurry to have blood test and accept treatment and health services from health centers and hospital. You have to commit not passing HIV to others.\n– For pregnant women\, you have to hurry to and to regularly have your pregnancy check-up so that you can take ARV preventing spreading HIV to your baby.\n– Do not discriminate and look down on the people who are living with HIV. We have to create a supporting environment for risk groups so that they can get health services\, social support lawful protection.\n– “I would like to appeal for all\, in particular youth\, that we have to commit ourselves to contribute to HIV prevention and all the times we have to avoid any actions which lead us to be risky to HIV. Everywhere you are\, you have to educate your friends to know how to prevent HIV like you do.” \n2. Youth debate\nFor the youth debate\, the Cambodian Red Cross held it at the National TV Studio in Phnom Penh on 22 November 2016 and then aired the video spot via all local TV channels from the 25 November to 1 December 2016. This youth debate was held under the specific topic\, “Cambodian Youth commit to prevent HIV.” The contents of the youth debate include: Contributing to the achievement of the 90-90-90 by 2020\, highlight the youth role model in preventing HIV and AIDS\, with the focus on self-esteem and social value\, and the joint effort in fighting against HIV and AIDS in Cambodia so far. There were 200 people who attended this youth debate\, including 40 Red Cross Volunteers and CRC’s staff. Student representatives from two universities debated on the key questions posted by the speaker panel. The speaker panel includes PLHIV representative\, National AIDS Authority\, Red Cross people and the media. \n3. Home visit to PLHIV families orphanage center\n\n– Totally 435 food packages\, including 60 packages supported by the Federation via ART Network\, were distributed to PLHIV’s families at their homes within the three provinces of Hoh Kong\, Svay Rieng and Siem Reap during November to December 2016.\n– Four staff of the CD/NCD sub-department of the National Head Quarters directly went to the three mentioned Red Cross Branches above. \n4. CRC’s NHQ health team conducted HIV/AIDS awareness sessions to several universities in Phnom Penh and Svay Rieng\nAt least six universities\, with a total of 4\,842 students\, were reached during November to December 2016. The six universities include 5 universities in Phnom Penh namely Royal University of Phnom Penh\, Asia-Europe University\, Royal University of Agriculture\, University of Cambodia and Western University and the other university in Svay Rieng which was University of Svay Rieng. Over 60% of the students were females. Deans of each university\, and teachers and students were very active and supporting the HIV sessions\, plus thanking the Red Cross for such HIV messages dissemination.
URL:https://www.rcrc-resilience-southeastasia.org/event/cambodian-red-cross-celebrates-world-aids-day-2016/
CATEGORIES:AIDS,Cambodia,Health
END:VEVENT
BEGIN:VEVENT
DTSTART;TZID=Asia/Krasnoyarsk:20161129T080000
DTEND;TZID=Asia/Krasnoyarsk:20161202T170000
DTSTAMP:20260424T003057
CREATED:20170102T073537Z
LAST-MODIFIED:20170619T065821Z
UID:17154-1480406400-1480698000@www.rcrc-resilience-southeastasia.org
SUMMARY:28th Asian Red Cross and Red Crescent HIV/AIDS Network Meeting & Capacity Building Workshop | 29 November-2 December 2016 | Jakarta\, Indonesia
DESCRIPTION:Group Photo of 28th Asian Red Cross and Red Crescent HIV/AIDS Network in Jakarta 2016. \nThe 28th Asian Red Cross and Red Crescent HIV/AIDS Network (ART) Annual Meeting & Capacity Building Workshop was held in Jakarta\, Indonesia\, from 29 November  to 2 December  2016. \nThe ART was established as part of the overall response to the recommendations enshrined in the Beijing Declaration\, signed by all National Societies attending the IV Asia Pacific Conference in May 1993. ART is a regional network of Red Cross and Red Crescent Societies’ HIV and AIDS professionals\, from South East and East Asia. ART assists to strengthen National Red Cross / Red Crescent Society capacities to deliver and sustain scaled-up HIV programmes which seek to promote the respect of Human Rights in all aspects through the: \n\nPrevention of further HIV infections\nExpanding HIV care\, treatment\, and support\nReducing HIV stigma and discrimination\n\nART collaborates and cooperates with the Federation and its representatives\, Asia Pacific Network of PLHIV (APN+) and other networks in responding to the requests and needs of National Societies in developing strategies and activities which focus on HIV and AIDS within the region. \nTo learn more about Cambodian Red Cross HIV programme\, see this external link. \nObjectives of the Meeting: \n\nTo provide operational & financial updates of the Network\nTo finalize future plans & directions of the network\nTo provide capacity building to ART members\n\nThis meeting provided an opportunity for current network officers to report the 2016 ART progress and financial report. This meeting also finalized the networks’ 2017 plans and budget. This year\, IFRC supported the meeting in providing capacity building sessions geared towards providing update programmatic activities of IFRC related to HIV prevention. \nThe meeting was hosted by the Indonesian Red Cross\, funded from ART funds and with the contribution of the IFRC. ART Funds comprise of the Annual Contribution of ART Member NS and from the financial support of Japanese Red Cross Society. \nDiscussion during the 28th Asian Red Cross and Red Crescent HIV/AIDS Network in Jakarta. \nThe event consisted of: \n\nDay 1: Capacity Building Workshop\nDay 2: Discussion about ART progress report / operational activities / financial report/ highlights of NS activities in 2016.\nDay 3: 12th International Congress on AIDS in Asia and the Pacific (ICAAP)/IAS participation report/ Harm reduction training Re-Echo 2016/ ART review and revised TOR and approval\nDay 4: Discussion about the management\, visibility\, fund raising\, proposal development and planning for the 29th ART meeting and evaluation of the ART meeting.\n\n  \nWorkshop documents or presentations: \n\nIntroduction to HIV in emergencies [ppt\, 0.9 MB]\nCommunity-based service delivery model [ppt\, 1 MB]\nActivity-based costing for health programmes [ppt\, 0.5 MB]\nProgress Report of ART 2016 [ppt\, 0.09 MB]\nParticipation report of 12th International Conference on AIDS in Asia and the Pacific [pdf\, 1.9 MB]\nSharing Experiences HIV Project networking of PMI East Jakarta [pdf\, 1.5 MB]\nParticipation report of 21st International AIDS Conference [pdf\, 5 MB]\nCare and support for people living with HIV/AIDS Lao Red Cross Report Jan – Jun 2016 [pdf\, 1.5 MB]\n\n  \nAdministrative documents: \n\nConcept note\nAgenda\nLetter from the chair person of ART HIV/AIDS Network to attendees\n\n  \nFor more information\, contact: Dr. Pornsak Khortwong at Pornsak.khortwong@ifrc.org
URL:https://www.rcrc-resilience-southeastasia.org/event/28th-asian-red-cross-and-red-crescent-hivaids-network-meeting-capacity-building-workshop-29-nov-2-dec-2016-jakarta-indonesia/
CATEGORIES:AIDS,Health,Indonesia,Meeting,Workshop
END:VEVENT
END:VCALENDAR