BEGIN:VCALENDAR
VERSION:2.0
PRODID:-//Resilience Library - ECPv6.15.12.2//NONSGML v1.0//EN
CALSCALE:GREGORIAN
METHOD:PUBLISH
X-ORIGINAL-URL:https://www.rcrc-resilience-southeastasia.org
X-WR-CALDESC:Events for Resilience Library
REFRESH-INTERVAL;VALUE=DURATION:PT1H
X-Robots-Tag:noindex
X-PUBLISHED-TTL:PT1H
BEGIN:VTIMEZONE
TZID:Asia/Krasnoyarsk
BEGIN:STANDARD
TZOFFSETFROM:+0700
TZOFFSETTO:+0700
TZNAME:+07
DTSTART:20160101T000000
END:STANDARD
END:VTIMEZONE
BEGIN:VEVENT
DTSTART;TZID=Asia/Krasnoyarsk:20171004T080000
DTEND;TZID=Asia/Krasnoyarsk:20171005T170000
DTSTAMP:20260423T040847
CREATED:20171002T040432Z
LAST-MODIFIED:20171109T030024Z
UID:21139-1507104000-1507222800@www.rcrc-resilience-southeastasia.org
SUMMARY:Vietnam Red Cross Post-OCAC Prioritization Workshop | 4-5 October 2017 | Hanoi\, Vietnam
DESCRIPTION:A strong National Society is the one that is able to deliver country-wide\, through a network of volunteer-based units\, a relevant service to vulnerable people sustained for as long as needed. To understand their own strengths\, weaknesses\, and potential within its own context\, the National Societies conduct Organizational Capacity Assessment and Certification (OCAC). \nOrganizational Capacity Assessment and Certification (OCAC) enables National Societies to assess their own capacity and performance so as to determine the best approaches for their self- development\, and also to acknowledge those National Societies that have reached a high level of proficiency. Every capacity deficit that is discovered represents an opportunity for further development and growth. \nVietnam Red Cross (VNRC) has carried the Organizational Capacity Assessment and Certification (OCAC) in 2014. \nDuring the VNRC OCAC process\, four key priority recommendations were identified:\n1. Strengthening organisational planning and monitoring systems\n2. Sustainability strategy\n3. Community level presence and participation\n4. Local chapter and branch government enhancement \nThrough this second process\, VNRC will identify tailor-made organizational development and capacity enhancement approaches and develop their national society development road map 2018-2020 which can contribute the VNRC Strategy 2020 and their future strategies. \n  \nObjective and expected outcome of the Workshop\n1. To identify the key indicators on the above recommended actions and review their progress and key challenges\n2. To develop the road map for the National Society Development 2018-2020 and introduce the BOCA and Resource Mobilization System (RMS).\n3. To develop the monitoring and evaluation\, and reporting mechanism and its sustainability for the National Society effective work and OCAC follow up. \n  \nSupporting documents:  \n\nConcept note\nAgenda\nReport: Post OCAC prioritisation workshop Report 2017 (includes annex 1: Agenda)\nAnnex 2 of the Report: Key indicators\nAnnex 3 of the Report: National Society Development roadmap 2018-2020\nAnnex 4 of the Report: Action plan of 2018\nReference 1: Recommendations from OCAC 2014\nReference 2: OCAC Findings Report 2014
URL:https://www.rcrc-resilience-southeastasia.org/event/vietnam-red-cross-post-ocac-prioritization-workshop-4-5-october-2017-hanoi-vietnam/
CATEGORIES:National Society Development,Viet Nam
END:VEVENT
END:VCALENDAR