BEGIN:VCALENDAR
VERSION:2.0
PRODID:-//Resilience Library - ECPv6.15.12.2//NONSGML v1.0//EN
CALSCALE:GREGORIAN
METHOD:PUBLISH
X-WR-CALNAME:Resilience Library
X-ORIGINAL-URL:https://www.rcrc-resilience-southeastasia.org
X-WR-CALDESC:Events for Resilience Library
REFRESH-INTERVAL;VALUE=DURATION:PT1H
X-Robots-Tag:noindex
X-PUBLISHED-TTL:PT1H
BEGIN:VTIMEZONE
TZID:Asia/Krasnoyarsk
BEGIN:STANDARD
TZOFFSETFROM:+0700
TZOFFSETTO:+0700
TZNAME:+07
DTSTART:20150101T000000
END:STANDARD
END:VTIMEZONE
BEGIN:VEVENT
DTSTART;VALUE=DATE:20161205
DTEND;VALUE=DATE:20161209
DTSTAMP:20260423T145746
CREATED:20161228T095346Z
LAST-MODIFIED:20170124T041739Z
UID:17039-1480896000-1481241599@www.rcrc-resilience-southeastasia.org
SUMMARY:Youth in School Safety Facilitators Training | 5-8 December 2016 | Myanmar Red Cross
DESCRIPTION:In order to add value to the School Based Disaster Risk Reduction project in Myanmar funded by Hong Kong Red Cross\, Myanmar Red Cross conducted Youth in School Safety Facilitators training for a purpose of integration between Disaster Management and Organizational Development/Youth as the youth empowerment initiative. \nObjectives of the Workshop \n\nTo enhance the capacity of Myanmar Red Cross School Safety with meaningful involvement of youth volunteers to be facilitators in order to roll out school safety initiative into all schools over the country through the Regional Youth in School Safety tool.\nTo provide an opportunity to youth and volunteers to expand Red Cross Youth clubs and junior Red Cross youth members to join the Red Cross programmes with a children-friendly training module.\n\nThe Youth in School Safety Facilitators training in Myanmar was held on 5-8 December 2016. It was facilitated by Youth and Volunteering Officer\, DRR Officer and two Myanmar RC youth facilitators as co-facilitators in close cooperation with the OD and DM department of MRCS. \n  \nKey Outcomes of the Training \n\nParticipants had clear understanding of the school safety framework with 3 pillars\, and the concept of school safety action.\nParticipants became the first-time facilitators in school safety through the demonstration at school and built confidence to continue to be youth facilitators\nParticipants developed their action plans to extend this programme to their communities/towns with their own resources and with the practice of the guide.\n\nFinally\, the OD and DM department recognized the youth facilitators as key players for their School Safety programme and appreciated the training module and would like to integrate this module into School Safety programme from 2017 onwards. \nPlease see the report and agenda.
URL:https://www.rcrc-resilience-southeastasia.org/event/youth-in-school-safety-programme-myanmar-red-cross-5-8-december-2016/
CATEGORIES:Disaster risk reduction,Myanmar,School Safety,Training
END:VEVENT
END:VCALENDAR